BEGIN:VCALENDAR
VERSION:2.0
PRODID:-//https://gardihutter.com///NONSGML kigkonsult.se iCalcreator 2.10.15//
METHOD:PUBLISH
BEGIN:VEVENT
UID:20260421T211125CEST-0808rZBdr6@https://gardihutter.com/
DTSTAMP:20260421T191125Z
DESCRIPTION: https://gardihutter.com/en/component/rseventspro/event/837-gar
 dizero?Itemid=131
DTSTART:20270131T190000Z
DTEND:20270131T201000Z
LOCATION:CHIASSO - Cinema Teatro  (Via Dante Alighieri 3B\, 6830 Chiasso\, 
 Svizzera)
SUMMARY:gardiZERO 
URL:https://gardihutter.com/en/component/rseventspro/event/837-gardizero?It
 emid=131
END:VEVENT
END:VCALENDAR
