BEGIN:VCALENDAR
VERSION:2.0
PRODID:-//https://gardihutter.com///NONSGML kigkonsult.se iCalcreator 2.10.15//
METHOD:PUBLISH
BEGIN:VEVENT
UID:20260421T123204CEST-1061uwwXgS@https://gardihutter.com/
DTSTAMP:20260421T103204Z
DESCRIPTION: https://gardihutter.com/en/component/rseventspro/event/838-gar
 dizero?Itemid=131
DTSTART:20261220T173000Z
DTEND:20261220T184000Z
LOCATION:LANGENTHAL ()
SUMMARY:gardiZERO 
URL:https://gardihutter.com/en/component/rseventspro/event/838-gardizero?It
 emid=131
END:VEVENT
END:VCALENDAR
