BEGIN:VCALENDAR
VERSION:2.0
PRODID:-//https://gardihutter.com///NONSGML kigkonsult.se iCalcreator 2.10.15//
METHOD:PUBLISH
BEGIN:VEVENT
UID:20260422T065815CEST-99422ClFvW@https://gardihutter.com/
DTSTAMP:20260422T045815Z
DESCRIPTION: https://gardihutter.com/en/component/rseventspro/event/839-gar
 dizero?Itemid=131
DTSTART:20270314T160000Z
DTEND:20270314T171000Z
LOCATION:BURGDORF - Casino Theater (Kirchbühl 14\, 3400 Burgdorf\, Svizzera
 )
SUMMARY:gardiZERO 
URL:https://gardihutter.com/en/component/rseventspro/event/839-gardizero?It
 emid=131
END:VEVENT
END:VCALENDAR
