BEGIN:VCALENDAR
VERSION:2.0
PRODID:-//https://gardihutter.com///NONSGML kigkonsult.se iCalcreator 2.10.15//
METHOD:PUBLISH
BEGIN:VEVENT
UID:20260421T194100CEST-6454A6Vdzr@https://gardihutter.com/
DTSTAMP:20260421T174100Z
DESCRIPTION: https://gardihutter.com/en/component/rseventspro/event/840-gar
 dizero?Itemid=131
DTSTART:20270122T190000Z
DTEND:20270122T201000Z
LOCATION:LIESTAL - EBL Elefantehuus (Mühlemattstrasse 6)
SUMMARY:gardiZERO 
URL:https://gardihutter.com/en/component/rseventspro/event/840-gardizero?It
 emid=131
END:VEVENT
END:VCALENDAR
