BEGIN:VCALENDAR
VERSION:2.0
PRODID:-//https://gardihutter.com///NONSGML kigkonsult.se iCalcreator 2.10.15//
METHOD:PUBLISH
BEGIN:VEVENT
UID:20260421T194117CEST-43220vRaVg@https://gardihutter.com/
DTSTAMP:20260421T174117Z
DESCRIPTION: https://gardihutter.com/en/component/rseventspro/event/841-gar
 dizero?Itemid=131
DTSTART:20270123T190000Z
DTEND:20270123T201000Z
LOCATION:REINACH - TAB THEATER AM BAHNHOF (Tunaustrasse 5)
SUMMARY:gardiZERO 
URL:https://gardihutter.com/en/component/rseventspro/event/841-gardizero?It
 emid=131
END:VEVENT
END:VCALENDAR
