BEGIN:VCALENDAR
VERSION:2.0
PRODID:-//https://gardihutter.com///NONSGML kigkonsult.se iCalcreator 2.10.15//
METHOD:PUBLISH
BEGIN:VEVENT
UID:20260421T211412CEST-2385iPugO9@https://gardihutter.com/
DTSTAMP:20260421T191412Z
DESCRIPTION: https://gardihutter.com/en/component/rseventspro/event/842-gar
 dizero?Itemid=131
DTSTART:20270130T190000Z
DTEND:20270130T201000Z
LOCATION:UZNACH - Rotfarb (Rotfarb 15)
SUMMARY:gardiZERO 
URL:https://gardihutter.com/en/component/rseventspro/event/842-gardizero?It
 emid=131
END:VEVENT
END:VCALENDAR
