BEGIN:VCALENDAR
VERSION:2.0
PRODID:-//https://gardihutter.com///NONSGML kigkonsult.se iCalcreator 2.10.15//
METHOD:PUBLISH
BEGIN:VEVENT
UID:20260422T034049CEST-0059ib5M4G@https://gardihutter.com/
DTSTAMP:20260422T014049Z
DESCRIPTION: https://gardihutter.com/en/component/rseventspro/event/843-gar
 dizero?Itemid=131
DTSTART:20270224T190000Z
DTEND:20270224T201000Z
LOCATION:BASEL FAUTEUIL (Spalenberg 12 4001  Basel)
SUMMARY:gardiZERO 
URL:https://gardihutter.com/en/component/rseventspro/event/843-gardizero?It
 emid=131
END:VEVENT
END:VCALENDAR
