BEGIN:VCALENDAR
VERSION:2.0
PRODID:-//https://gardihutter.com///NONSGML kigkonsult.se iCalcreator 2.10.15//
METHOD:PUBLISH
BEGIN:VEVENT
UID:20260422T033511CEST-74870v12S0@https://gardihutter.com/
DTSTAMP:20260422T013511Z
DESCRIPTION: https://gardihutter.com/en/component/rseventspro/event/845-gar
 dizero?Itemid=131
DTSTART:20270226T190000Z
DTEND:20270226T201000Z
LOCATION:BASEL FAUTEUIL (Spalenberg 12 4001  Basel)
SUMMARY:gardiZERO 
URL:https://gardihutter.com/en/component/rseventspro/event/845-gardizero?It
 emid=131
END:VEVENT
END:VCALENDAR
