BEGIN:VCALENDAR
VERSION:2.0
PRODID:-//https://gardihutter.com///NONSGML kigkonsult.se iCalcreator 2.10.15//
METHOD:PUBLISH
BEGIN:VEVENT
UID:20260421T122849CEST-1990NJ6ffU@https://gardihutter.com/
DTSTAMP:20260421T102849Z
DESCRIPTION: https://gardihutter.com/en/component/rseventspro/event/850-gar
 dizero?Itemid=131
DTSTART:20261217T190000Z
DTEND:20261217T201000Z
LOCATION:LÖRRACH - Burghof (Herrenstraße 5\, 79539 Lörrach\, Germania)
SUMMARY:gardiZERO 
URL:https://gardihutter.com/en/component/rseventspro/event/850-gardizero?It
 emid=131
END:VEVENT
END:VCALENDAR
