BEGIN:VCALENDAR
VERSION:2.0
PRODID:-//https://gardihutter.com///NONSGML kigkonsult.se iCalcreator 2.10.15//
METHOD:PUBLISH
BEGIN:VEVENT
UID:20260422T065459CEST-07512HJFzb@https://gardihutter.com/
DTSTAMP:20260422T045459Z
DESCRIPTION: https://gardihutter.com/en/component/rseventspro/event/855-gar
 dizero?Itemid=131
DTSTART:20270312T190000Z
DTEND:20270312T201000Z
LOCATION:SINGEN - GEMS Kulturzentrum (Mühlenstraße 13\, 78224 Singen (Hohen
 twiel)\, Germania)
SUMMARY:gardiZERO 
URL:https://gardihutter.com/en/component/rseventspro/event/855-gardizero?It
 emid=131
END:VEVENT
END:VCALENDAR
