BEGIN:VCALENDAR
VERSION:2.0
PRODID:-//https://gardihutter.com///NONSGML kigkonsult.se iCalcreator 2.10.15//
METHOD:PUBLISH
BEGIN:VEVENT
UID:20260422T065459CEST-5579fucVId@https://gardihutter.com/
DTSTAMP:20260422T045459Z
DESCRIPTION: https://gardihutter.com/en/component/rseventspro/event/856-gar
 dizero?Itemid=131
DTSTART:20270313T190000Z
DTEND:20270313T201000Z
LOCATION:DORNBIRN - Studasaal (Haselstauderstraße 20\,)
SUMMARY:gardiZERO 
URL:https://gardihutter.com/en/component/rseventspro/event/856-gardizero?It
 emid=131
END:VEVENT
END:VCALENDAR
