BEGIN:VCALENDAR
VERSION:2.0
PRODID:-//https://gardihutter.com///NONSGML kigkonsult.se iCalcreator 2.10.15//
METHOD:PUBLISH
BEGIN:VEVENT
UID:20260424T173748CEST-49675W7mlE@https://gardihutter.com/
DTSTAMP:20260424T153748Z
DESCRIPTION: https://gardihutter.com/en/shows/event/774-gardizero-letzte-ti
 ckets
DTSTART:20260509T180000Z
DTEND:20260509T191000Z
LOCATION:BERN - La Cappella (Allmendstrasse 24\, 3014 Bern\, Svizzera)
SUMMARY:gardiZERO - Letzte tickets
URL:https://gardihutter.com/en/shows/event/774-gardizero-letzte-tickets
END:VEVENT
END:VCALENDAR
