BEGIN:VCALENDAR
VERSION:2.0
PRODID:-//https://gardihutter.com///NONSGML kigkonsult.se iCalcreator 2.10.15//
METHOD:PUBLISH
BEGIN:VEVENT
UID:20260424T174401CEST-9659LkA1sb@https://gardihutter.com/
DTSTAMP:20260424T154401Z
DESCRIPTION: https://gardihutter.com/en/shows/event/791-gardizero-letzte-ti
 ckets
DTSTART:20260528T173000Z
DTEND:20260528T184000Z
LOCATION:SCHAFFHAUSEN - Stadttheater (Herrenacker 22\, 8200 Schaffhausen\, 
 Svizzera)
SUMMARY:gardiZERO - Letzte tickets
URL:https://gardihutter.com/en/shows/event/791-gardizero-letzte-tickets
END:VEVENT
END:VCALENDAR
