BEGIN:VCALENDAR
VERSION:2.0
PRODID:-//https://gardihutter.com///NONSGML kigkonsult.se iCalcreator 2.10.15//
METHOD:PUBLISH
BEGIN:VEVENT
UID:20260421T113234CEST-3005G4Bp6u@https://gardihutter.com/
DTSTAMP:20260421T093234Z
DESCRIPTION: https://gardihutter.com/fr/spectacles/evenement/769-gardizero
DTSTART:20260426T160000Z
DTEND:20260426T171000Z
LOCATION:REMSCHEID - Klosterkirche (Klostergasse 8\, 42897 Remscheid\, Germ
 ania)
SUMMARY:gardiZERO 
URL:https://gardihutter.com/fr/spectacles/evenement/769-gardizero
END:VEVENT
END:VCALENDAR
